BEGIN:VCALENDAR
VERSION:2.0
PRODID:-//National Network for District Authorizing - ECPv6.15.20//NONSGML v1.0//EN
CALSCALE:GREGORIAN
METHOD:PUBLISH
X-ORIGINAL-URL:https://nn4da.org
X-WR-CALDESC:Events for National Network for District Authorizing
REFRESH-INTERVAL;VALUE=DURATION:PT1H
X-Robots-Tag:noindex
X-PUBLISHED-TTL:PT1H
BEGIN:VTIMEZONE
TZID:America/Denver
BEGIN:DAYLIGHT
TZOFFSETFROM:-0700
TZOFFSETTO:-0600
TZNAME:MDT
DTSTART:20250309T090000
END:DAYLIGHT
BEGIN:STANDARD
TZOFFSETFROM:-0600
TZOFFSETTO:-0700
TZNAME:MST
DTSTART:20251102T080000
END:STANDARD
BEGIN:DAYLIGHT
TZOFFSETFROM:-0700
TZOFFSETTO:-0600
TZNAME:MDT
DTSTART:20260308T090000
END:DAYLIGHT
BEGIN:STANDARD
TZOFFSETFROM:-0600
TZOFFSETTO:-0700
TZNAME:MST
DTSTART:20261101T080000
END:STANDARD
BEGIN:DAYLIGHT
TZOFFSETFROM:-0700
TZOFFSETTO:-0600
TZNAME:MDT
DTSTART:20270314T090000
END:DAYLIGHT
BEGIN:STANDARD
TZOFFSETFROM:-0600
TZOFFSETTO:-0700
TZNAME:MST
DTSTART:20271107T080000
END:STANDARD
END:VTIMEZONE
BEGIN:VEVENT
DTSTART;TZID=America/Denver:20260424T130000
DTEND;TZID=America/Denver:20260424T140000
DTSTAMP:20260423T082245
CREATED:20260109T203814Z
LAST-MODIFIED:20260124T193450Z
UID:8116-1777035600-1777039200@nn4da.org
SUMMARY:Legal and Policy Developments
DESCRIPTION:This call is co-hosted by Tom Hutton\, Executive Director of CCAP.\nThese calls are scheduled on the 4th Friday of every month. \nThis working group collaborates on implementing our new federal grant and to address big issues in the field. Our state partners and their members are welcome to join. Each topic has been selected based on input from the field and on upcoming work by our state partners. Please join us and contact Alex Medler at alex.medler@nn4da.org for more information. \nRegister Here: Meeting Registration – Zoom
URL:https://nn4da.org/event/legal-and-policy-developments-4/
LOCATION:Zoom
ATTACH;FMTTYPE=image/jpeg:https://nn4da.org/wp-content/uploads/2023/08/NN4DA-Logo.jpg
END:VEVENT
BEGIN:VEVENT
DTSTART;TZID=America/Denver:20260514T120000
DTEND;TZID=America/Denver:20260514T130000
DTSTAMP:20260423T082245
CREATED:20260416T121624Z
LAST-MODIFIED:20260416T121624Z
UID:8259-1778760000-1778763600@nn4da.org
SUMMARY:Technology and Artificial Intelligence in Authorizing
DESCRIPTION:This meeting is co-hosted by Marianne Blair\, Executive Director of FACSA.\nThe calls are scheduled on the 2nd Thursday of every month. \nThis working group collaborates on implementing our new federal grant and to address big issues in the field. Our state partners and their members are welcome to join. Each topic has been selected based on input from the field and on upcoming work by our state partners. \nPlease join us and contact Marianne Blair at marianne.blair@flauthorizers.org or Alex Medler at alex.medler@nn4da.org for more information. \nRegister Here: https://teams.microsoft.com/meet/22414751706912?p=9D2bqttC7SCQzFAuzk\nMeeting ID: 224 147 517 069 12\nPasscode: y7ZV6wF9
URL:https://nn4da.org/event/technology-and-artificial-intelligence-in-authorizing-5/
LOCATION:Microsoft Teams
ATTACH;FMTTYPE=image/jpeg:https://nn4da.org/wp-content/uploads/2023/08/NN4DA-Logo.jpg
END:VEVENT
BEGIN:VEVENT
DTSTART;TZID=America/Denver:20260518T120000
DTEND;TZID=America/Denver:20260518T130000
DTSTAMP:20260423T082245
CREATED:20260416T122316Z
LAST-MODIFIED:20260420T122519Z
UID:8266-1779105600-1779109200@nn4da.org
SUMMARY:Charter School Models & Authorizing
DESCRIPTION:This call is co-hosted by Tim Scottberg\, Associate Director\, Wisconsin Resource Center for Charter Schools\nMeetings are held on the 3rd Monday of every month \nWe discuss how state partners can implement their own state-level Charter School Model Task Force and discuss educational and operational aspects of authorizing innovative charter school models This group is intended to help NN4DA state partners from all states do the work to establish a state task force on a specific charter school model\, funded by the NN4DA CSP grant. Please join us and contact Alex Medler at alex.medler@nn4da.org for more information. \nClick Here for the Zoom Meeting Link\nGoogle form: Model Work Groups and Academic Quality and Innovation Meeting Log.docx – Google Docs
URL:https://nn4da.org/event/charter-school-models-authorizing-5/
LOCATION:Zoom
ATTACH;FMTTYPE=image/jpeg:https://nn4da.org/wp-content/uploads/2023/08/cropped-NN4DA-Logo.jpg
END:VEVENT
BEGIN:VEVENT
DTSTART;TZID=America/Denver:20260520T140000
DTEND;TZID=America/Denver:20260520T150000
DTSTAMP:20260423T082245
CREATED:20260416T122834Z
LAST-MODIFIED:20260416T122834Z
UID:8271-1779285600-1779289200@nn4da.org
SUMMARY:Authorizer Assessment and Technical Assistance
DESCRIPTION:This call is co-hosted by Mackenzie Khan\, Executive Director of CACSA.\nMeetings are held on the 3rd Wednesday of every month. \nThis working group collaborates on implementing our new federal grant and to address big issues in the field. Our state partners and their members are welcome to join. Each topic has been selected based on input from the field and on upcoming work by our state partners. Please join us and contact Alex Medler at alex.medler@nn4da.org for more information. \nClick Here to connect via Zoom
URL:https://nn4da.org/event/authorizer-assessment-and-technical-assistance-6/
LOCATION:Zoom
CATEGORIES:Webinar
ATTACH;FMTTYPE=image/jpeg:https://nn4da.org/wp-content/uploads/2023/08/cropped-NN4DA-Logo.jpg
END:VEVENT
BEGIN:VEVENT
DTSTART;TZID=America/Denver:20260522T130000
DTEND;TZID=America/Denver:20260522T140000
DTSTAMP:20260423T082245
CREATED:20260416T124735Z
LAST-MODIFIED:20260416T124735Z
UID:8277-1779454800-1779458400@nn4da.org
SUMMARY:Legal and Policy Developments
DESCRIPTION:This call is co-hosted by Tom Hutton\, Executive Director of CCAP.\nThese calls are scheduled on the 4th Friday of every month. \nThis working group collaborates on implementing our new federal grant and to address big issues in the field. Our state partners and their members are welcome to join. Each topic has been selected based on input from the field and on upcoming work by our state partners. Please join us and contact Alex Medler at alex.medler@nn4da.org for more information. \nClick Here to connect via Zoom
URL:https://nn4da.org/event/legal-and-policy-developments-5/
LOCATION:Zoom
CATEGORIES:Webinar
ATTACH;FMTTYPE=image/jpeg:https://nn4da.org/wp-content/uploads/2023/08/cropped-NN4DA-Logo.jpg
END:VEVENT
BEGIN:VEVENT
DTSTART;TZID=America/Denver:20260611T120000
DTEND;TZID=America/Denver:20260611T130000
DTSTAMP:20260423T082245
CREATED:20260416T121937Z
LAST-MODIFIED:20260416T121937Z
UID:8263-1781179200-1781182800@nn4da.org
SUMMARY:Technology and Artificial Intelligence in Authorizing
DESCRIPTION:This meeting is co-hosted by Marianne Blair\, Executive Director of FACSA.\nThe calls are scheduled on the 2nd Thursday of every month. \nThis working group collaborates on implementing our new federal grant and to address big issues in the field. Our state partners and their members are welcome to join. Each topic has been selected based on input from the field and on upcoming work by our state partners. \nPlease join us and contact Marianne Blair at marianne.blair@flauthorizers.org or Alex Medler at alex.medler@nn4da.org for more information. \nRegister Here: https://teams.microsoft.com/meet/22414751706912?p=9D2bqttC7SCQzFAuzk\nMeeting ID: 224 147 517 069 12\nPasscode: y7ZV6wF9
URL:https://nn4da.org/event/technology-and-artificial-intelligence-in-authorizing-6/
LOCATION:Microsoft Teams
ATTACH;FMTTYPE=image/jpeg:https://nn4da.org/wp-content/uploads/2023/08/cropped-NN4DA-Logo.jpg
END:VEVENT
BEGIN:VEVENT
DTSTART;TZID=America/Denver:20260615T120000
DTEND;TZID=America/Denver:20260615T130000
DTSTAMP:20260423T082245
CREATED:20260416T122507Z
LAST-MODIFIED:20260420T122349Z
UID:8269-1781524800-1781528400@nn4da.org
SUMMARY:Charter School Models & Authorizing
DESCRIPTION:This call is co-hosted by Tim Scottberg\, Associate Director\, Wisconsin Resource Center for Charter Schools\nMeetings are held on the 3rd Monday of every month \nWe discuss how state partners can implement their own state-level Charter School Model Task Force and discuss educational and operational aspects of authorizing innovative charter school models This group is intended to help NN4DA state partners from all states do the work to establish a state task force on a specific charter school model\, funded by the NN4DA CSP grant. Please join us and contact Alex Medler at alex.medler@nn4da.org for more information. \nClick Here for the Zoom Meeting Link\nGoogle form: Model Work Groups and Academic Quality and Innovation Meeting Log.docx – Google Docs
URL:https://nn4da.org/event/charter-school-models-authorizing-6/
LOCATION:Zoom
CATEGORIES:Webinar
ATTACH;FMTTYPE=image/jpeg:https://nn4da.org/wp-content/uploads/2023/08/cropped-NN4DA-Logo.jpg
END:VEVENT
BEGIN:VEVENT
DTSTART;TZID=America/Denver:20260617T140000
DTEND;TZID=America/Denver:20260617T150000
DTSTAMP:20260423T082245
CREATED:20260416T123415Z
LAST-MODIFIED:20260416T123415Z
UID:8274-1781704800-1781708400@nn4da.org
SUMMARY:Authorizer Assessment and Technical Assistance
DESCRIPTION:This call is co-hosted by Mackenzie Khan\, Executive Director of CACSA.\nMeetings are held on the 3rd Wednesday of every month. \nThis working group collaborates on implementing our new federal grant and to address big issues in the field. Our state partners and their members are welcome to join. Each topic has been selected based on input from the field and on upcoming work by our state partners. Please join us and contact Alex Medler at alex.medler@nn4da.org for more information. \nClick Here to connect via Zoom
URL:https://nn4da.org/event/authorizer-assessment-and-technical-assistance-7/
LOCATION:Zoom
CATEGORIES:Webinar
ATTACH;FMTTYPE=image/jpeg:https://nn4da.org/wp-content/uploads/2023/08/cropped-NN4DA-Logo.jpg
END:VEVENT
BEGIN:VEVENT
DTSTART;TZID=America/Denver:20260626T130000
DTEND;TZID=America/Denver:20260626T140000
DTSTAMP:20260423T082245
CREATED:20260416T124911Z
LAST-MODIFIED:20260416T124911Z
UID:8280-1782478800-1782482400@nn4da.org
SUMMARY:Legal and Policy Developments
DESCRIPTION:This call is co-hosted by Tom Hutton\, Executive Director of CCAP.\nThese calls are scheduled on the 4th Friday of every month. \nThis working group collaborates on implementing our new federal grant and to address big issues in the field. Our state partners and their members are welcome to join. Each topic has been selected based on input from the field and on upcoming work by our state partners. Please join us and contact Alex Medler at alex.medler@nn4da.org for more information. \nClick Here to connect via Zoom
URL:https://nn4da.org/event/legal-and-policy-developments-6/
LOCATION:Zoom
CATEGORIES:Webinar
ATTACH;FMTTYPE=image/jpeg:https://nn4da.org/wp-content/uploads/2023/08/cropped-NN4DA-Logo.jpg
END:VEVENT
END:VCALENDAR