BEGIN:VCALENDAR
VERSION:2.0
PRODID:-//National Network for District Authorizing - ECPv6.15.20//NONSGML v1.0//EN
CALSCALE:GREGORIAN
METHOD:PUBLISH
X-WR-CALNAME:National Network for District Authorizing
X-ORIGINAL-URL:https://nn4da.org
X-WR-CALDESC:Events for National Network for District Authorizing
REFRESH-INTERVAL;VALUE=DURATION:PT1H
X-Robots-Tag:noindex
X-PUBLISHED-TTL:PT1H
BEGIN:VTIMEZONE
TZID:America/Denver
BEGIN:DAYLIGHT
TZOFFSETFROM:-0700
TZOFFSETTO:-0600
TZNAME:MDT
DTSTART:20240310T090000
END:DAYLIGHT
BEGIN:STANDARD
TZOFFSETFROM:-0600
TZOFFSETTO:-0700
TZNAME:MST
DTSTART:20241103T080000
END:STANDARD
BEGIN:DAYLIGHT
TZOFFSETFROM:-0700
TZOFFSETTO:-0600
TZNAME:MDT
DTSTART:20250309T090000
END:DAYLIGHT
BEGIN:STANDARD
TZOFFSETFROM:-0600
TZOFFSETTO:-0700
TZNAME:MST
DTSTART:20251102T080000
END:STANDARD
BEGIN:DAYLIGHT
TZOFFSETFROM:-0700
TZOFFSETTO:-0600
TZNAME:MDT
DTSTART:20260308T090000
END:DAYLIGHT
BEGIN:STANDARD
TZOFFSETFROM:-0600
TZOFFSETTO:-0700
TZNAME:MST
DTSTART:20261101T080000
END:STANDARD
END:VTIMEZONE
BEGIN:VEVENT
DTSTART;TZID=America/Denver:20250115T120000
DTEND;TZID=America/Denver:20250115T130000
DTSTAMP:20260423T171807
CREATED:20241218T141339Z
LAST-MODIFIED:20241218T141339Z
UID:7255-1736942400-1736946000@nn4da.org
SUMMARY:CACSA Authorizer Connection Call
DESCRIPTION:CACSA will host monthly virtual networking calls exclusively for Colorado charter school authorizers. These calls will provide a consistent space for authorizers across the state to connect\, troubleshoot\, brainstorm\, share insights\, and discuss current happenings in their areas. Whether you’re looking to network or navigate the complexities of authorizing in Colorado\, this is your opportunity to engage with peers and build valuable connections.
URL:https://nn4da.org/event/cacsa-authorizer-connection-call-5/
LOCATION:Zoom
CATEGORIES:Meeting
ATTACH;FMTTYPE=image/png:https://nn4da.org/wp-content/uploads/2023/12/CACSA-Logo.png
END:VEVENT
END:VCALENDAR