BEGIN:VCALENDAR
VERSION:2.0
PRODID:-//National Network for District Authorizing - ECPv6.15.20//NONSGML v1.0//EN
CALSCALE:GREGORIAN
METHOD:PUBLISH
X-WR-CALNAME:National Network for District Authorizing
X-ORIGINAL-URL:https://nn4da.org
X-WR-CALDESC:Events for National Network for District Authorizing
REFRESH-INTERVAL;VALUE=DURATION:PT1H
X-Robots-Tag:noindex
X-PUBLISHED-TTL:PT1H
BEGIN:VTIMEZONE
TZID:America/Denver
BEGIN:DAYLIGHT
TZOFFSETFROM:-0700
TZOFFSETTO:-0600
TZNAME:MDT
DTSTART:20240310T090000
END:DAYLIGHT
BEGIN:STANDARD
TZOFFSETFROM:-0600
TZOFFSETTO:-0700
TZNAME:MST
DTSTART:20241103T080000
END:STANDARD
BEGIN:DAYLIGHT
TZOFFSETFROM:-0700
TZOFFSETTO:-0600
TZNAME:MDT
DTSTART:20250309T090000
END:DAYLIGHT
BEGIN:STANDARD
TZOFFSETFROM:-0600
TZOFFSETTO:-0700
TZNAME:MST
DTSTART:20251102T080000
END:STANDARD
BEGIN:DAYLIGHT
TZOFFSETFROM:-0700
TZOFFSETTO:-0600
TZNAME:MDT
DTSTART:20260308T090000
END:DAYLIGHT
BEGIN:STANDARD
TZOFFSETFROM:-0600
TZOFFSETTO:-0700
TZNAME:MST
DTSTART:20261101T080000
END:STANDARD
BEGIN:DAYLIGHT
TZOFFSETFROM:-0700
TZOFFSETTO:-0600
TZNAME:MDT
DTSTART:20270314T090000
END:DAYLIGHT
BEGIN:STANDARD
TZOFFSETFROM:-0600
TZOFFSETTO:-0700
TZNAME:MST
DTSTART:20271107T080000
END:STANDARD
END:VTIMEZONE
BEGIN:VEVENT
DTSTART;TZID=America/Denver:20260420T120000
DTEND;TZID=America/Denver:20260420T130000
DTSTAMP:20260423T131239
CREATED:20260124T194918Z
LAST-MODIFIED:20260420T121558Z
UID:8154-1776686400-1776690000@nn4da.org
SUMMARY:Charter School Models & Authorizing
DESCRIPTION:This call is co-hosted by Tim Scottberg\, Associate Director\, Wisconsin Resource Center for Charter Schools \nMeetings are held on the 3rd Monday of every month \nWe discuss how state partners can implement their own state-level Charter School Model Task Force and discuss educational and operational aspects of authorizing innovative charter school models This group is intended to help NN4DA state partners from all states do the work to establish a state task force on a specific charter school model\, funded by the NN4DA CSP grant. Please join us and contact Alex Medler at alex.medler@nn4da.org for more information. \nZoom Meeting Link\nGoogle form: Model Work Groups and Academic Quality and Innovation Meeting Log.docx – Google Docs
URL:https://nn4da.org/event/charter-school-models-authorizing-4/
LOCATION:Zoom
CATEGORIES:Meeting
ATTACH;FMTTYPE=image/jpeg:https://nn4da.org/wp-content/uploads/2023/08/NN4DA-Logo.jpg
END:VEVENT
BEGIN:VEVENT
DTSTART;TZID=America/Denver:20260316T120000
DTEND;TZID=America/Denver:20260316T130000
DTSTAMP:20260423T131239
CREATED:20260124T194725Z
LAST-MODIFIED:20260212T184256Z
UID:8151-1773662400-1773666000@nn4da.org
SUMMARY:Charter School Models & Authorizing
DESCRIPTION:This call is co-hosted by Tim Scottberg\, Associate Director\, Wisconsin Resource Center for Charter Schools \nMeetings are held on the 3rd Monday of every month \nWe discuss how state partners can implement their own state-level Charter School Model Task Force and discuss educational and operational aspects of authorizing innovative charter school models This group is intended to help NN4DA state partners from all states do the work to establish a state task force on a specific charter school model\, funded by the NN4DA CSP grant. Please join us and contact Alex Medler at alex.medler@nn4da.org for more information. \nMeeting Registration Link – Zoom\nGoogle form: Model Work Groups and Academic Quality and Innovation Meeting Log.docx – Google Docs
URL:https://nn4da.org/event/charter-school-models-authorizing-3/
LOCATION:Zoom
CATEGORIES:Meeting
ATTACH;FMTTYPE=image/jpeg:https://nn4da.org/wp-content/uploads/2023/08/NN4DA-Logo.jpg
END:VEVENT
BEGIN:VEVENT
DTSTART;TZID=America/Denver:20260216T120000
DTEND;TZID=America/Denver:20260216T130000
DTSTAMP:20260423T131239
CREATED:20260124T194545Z
LAST-MODIFIED:20260212T184415Z
UID:8148-1771243200-1771246800@nn4da.org
SUMMARY:Charter School Models & Authorizing
DESCRIPTION:This call is co-hosted by Tim Scottberg\, Associate Director\, Wisconsin Resource Center for Charter Schools \nMeetings are held on the 3rd Monday of every month \nWe discuss how state partners can implement their own state-level Charter School Model Task Force and discuss educational and operational aspects of authorizing innovative charter school models This group is intended to help NN4DA state partners from all states do the work to establish a state task force on a specific charter school model\, funded by the NN4DA CSP grant. Please join us and contact Alex Medler at alex.medler@nn4da.org for more information. \nMeeting Registration Link – Zoom\nGoogle form: Model Work Groups and Academic Quality and Innovation Meeting Log.docx – Google Docs
URL:https://nn4da.org/event/charter-school-models-authorizing-2/
LOCATION:Zoom
CATEGORIES:Meeting
ATTACH;FMTTYPE=image/jpeg:https://nn4da.org/wp-content/uploads/2023/08/NN4DA-Logo.jpg
END:VEVENT
BEGIN:VEVENT
DTSTART;VALUE=DATE:20251019
DTEND;VALUE=DATE:20251021
DTSTAMP:20260423T131239
CREATED:20250529T224204Z
LAST-MODIFIED:20250724T213058Z
UID:7687-1760832000-1761004799@nn4da.org
SUMMARY:NN4DA Annual Meeting
DESCRIPTION:The NN4DA Annual Meeting is scheduled in conjunction with the NACSA meeting\, in Houston\, TX. Authorizers\, state partners\, and facilitators from all NN4DA partner states are welcome to attend. There is no cost to attend. \nParticipants will share strategies for making their own state initiative more successful and discuss developments and challenges in authorizing of particular interest to school districts. \nContact Alex Medler at Alex.Medler@nn4da.org\, or your state facilitator for more information. \nRegister Here
URL:https://nn4da.org/event/nn4da-annual-meeting/
LOCATION:Westin Galleria\, Houston\, TX\, United States
CATEGORIES:Meeting
ATTACH;FMTTYPE=image/jpeg:https://nn4da.org/wp-content/uploads/2023/08/NN4DA-Logo.jpg
END:VEVENT
BEGIN:VEVENT
DTSTART;TZID=America/Denver:20250811T140000
DTEND;TZID=America/Denver:20250811T140000
DTSTAMP:20260423T131239
CREATED:20250224T184330Z
LAST-MODIFIED:20250224T185344Z
UID:7590-1754920800-1754920800@nn4da.org
SUMMARY:Artificial Intelligence (AI) and Authorizing
DESCRIPTION:This group discusses the implications and applications of AI for charter school authorizing.
URL:https://nn4da.org/event/artificial-intelligence-ai-and-authorizing-6/
LOCATION:Zoom
CATEGORIES:Meeting
ATTACH;FMTTYPE=image/jpeg:https://nn4da.org/wp-content/uploads/2023/08/NN4DA-Logo.jpg
END:VEVENT
BEGIN:VEVENT
DTSTART;TZID=America/Denver:20250807T120000
DTEND;TZID=America/Denver:20250807T120000
DTSTAMP:20260423T131239
CREATED:20250224T184340Z
LAST-MODIFIED:20250224T185449Z
UID:7596-1754568000-1754568000@nn4da.org
SUMMARY:Authorizer Evaluation
DESCRIPTION:This group discusses authorizer evaluation and how our state initiatives can use evaluation to support and engage authorizers.
URL:https://nn4da.org/event/authorizer-evaluation-6/
LOCATION:Zoom
CATEGORIES:Meeting
ATTACH;FMTTYPE=image/jpeg:https://nn4da.org/wp-content/uploads/2023/08/NN4DA-Logo.jpg
END:VEVENT
BEGIN:VEVENT
DTSTART;TZID=America/Denver:20250714T140000
DTEND;TZID=America/Denver:20250714T140000
DTSTAMP:20260423T131239
CREATED:20250224T184329Z
LAST-MODIFIED:20250224T185714Z
UID:7589-1752501600-1752501600@nn4da.org
SUMMARY:Artificial Intelligence (AI) and Authorizing
DESCRIPTION:This group discusses the implications and applications of AI for charter school authorizing.
URL:https://nn4da.org/event/artificial-intelligence-ai-and-authorizing-5/
LOCATION:Zoom
CATEGORIES:Meeting
ATTACH;FMTTYPE=image/jpeg:https://nn4da.org/wp-content/uploads/2023/08/NN4DA-Logo.jpg
END:VEVENT
BEGIN:VEVENT
DTSTART;TZID=America/Denver:20250703T120000
DTEND;TZID=America/Denver:20250703T120000
DTSTAMP:20260423T131239
CREATED:20250224T184340Z
LAST-MODIFIED:20250224T185829Z
UID:7595-1751544000-1751544000@nn4da.org
SUMMARY:Authorizer Evaluation
DESCRIPTION:This group discusses authorizer evaluation and how our state initiatives can use evaluation to support and engage authorizers.
URL:https://nn4da.org/event/authorizer-evaluation-5/
LOCATION:Zoom
CATEGORIES:Meeting
ATTACH;FMTTYPE=image/jpeg:https://nn4da.org/wp-content/uploads/2023/08/NN4DA-Logo.jpg
END:VEVENT
BEGIN:VEVENT
DTSTART;TZID=America/Denver:20250609T140000
DTEND;TZID=America/Denver:20250609T140000
DTSTAMP:20260423T131239
CREATED:20250224T184321Z
LAST-MODIFIED:20250224T185908Z
UID:7588-1749477600-1749477600@nn4da.org
SUMMARY:Artificial Intelligence (AI) and Authorizing
DESCRIPTION:This group discusses the implications and applications of AI for charter school authorizing.
URL:https://nn4da.org/event/artificial-intelligence-ai-and-authorizing-4/
LOCATION:Zoom
CATEGORIES:Meeting
ATTACH;FMTTYPE=image/jpeg:https://nn4da.org/wp-content/uploads/2023/08/NN4DA-Logo.jpg
END:VEVENT
BEGIN:VEVENT
DTSTART;TZID=America/Denver:20250605T120000
DTEND;TZID=America/Denver:20250605T120000
DTSTAMP:20260423T131239
CREATED:20250224T184339Z
LAST-MODIFIED:20250224T185959Z
UID:7594-1749124800-1749124800@nn4da.org
SUMMARY:Authorizer Evaluation
DESCRIPTION:This group discusses authorizer evaluation and how our state initiatives can use evaluation to support and engage authorizers.
URL:https://nn4da.org/event/authorizer-evaluation-4/
LOCATION:Zoom
CATEGORIES:Meeting
ATTACH;FMTTYPE=image/jpeg:https://nn4da.org/wp-content/uploads/2023/08/NN4DA-Logo.jpg
END:VEVENT
BEGIN:VEVENT
DTSTART;TZID=America/Denver:20250521T120000
DTEND;TZID=America/Denver:20250521T130000
DTSTAMP:20260423T131239
CREATED:20241218T141210Z
LAST-MODIFIED:20241218T141210Z
UID:7253-1747828800-1747832400@nn4da.org
SUMMARY:CACSA Authorizer Connection Call
DESCRIPTION:CACSA will host monthly virtual networking calls exclusively for Colorado charter school authorizers. These calls will provide a consistent space for authorizers across the state to connect\, troubleshoot\, brainstorm\, share insights\, and discuss current happenings in their areas. Whether you’re looking to network or navigate the complexities of authorizing in Colorado\, this is your opportunity to engage with peers and build valuable connections.
URL:https://nn4da.org/event/cacsa-authorizer-connection-call-4/
LOCATION:Zoom
CATEGORIES:Meeting
ATTACH;FMTTYPE=image/png:https://nn4da.org/wp-content/uploads/2023/12/CACSA-Logo.png
END:VEVENT
BEGIN:VEVENT
DTSTART;TZID=America/Denver:20250512T140000
DTEND;TZID=America/Denver:20250512T140000
DTSTAMP:20260423T131239
CREATED:20250224T184321Z
LAST-MODIFIED:20250224T190126Z
UID:7587-1747058400-1747058400@nn4da.org
SUMMARY:Artificial Intelligence (AI) and Authorizing
DESCRIPTION:This group discusses the implications and applications of AI for charter school authorizing.
URL:https://nn4da.org/event/artificial-intelligence-ai-and-authorizing-3/
LOCATION:Zoom
CATEGORIES:Meeting
ATTACH;FMTTYPE=image/jpeg:https://nn4da.org/wp-content/uploads/2023/08/NN4DA-Logo.jpg
END:VEVENT
BEGIN:VEVENT
DTSTART;TZID=America/Denver:20250509T130000
DTEND;TZID=America/Denver:20250509T140000
DTSTAMP:20260423T131239
CREATED:20240827T161954Z
LAST-MODIFIED:20240827T191714Z
UID:6869-1746795600-1746799200@nn4da.org
SUMMARY:Special Education Stakeholders Group
DESCRIPTION:TIME ZONE: MDT
URL:https://nn4da.org/event/special-education-stakeholders-group-11/
CATEGORIES:Meeting
ATTACH;FMTTYPE=image/png:https://nn4da.org/wp-content/uploads/2023/12/CACSA-Logo.png
END:VEVENT
BEGIN:VEVENT
DTSTART;TZID=America/Denver:20250502T070000
DTEND;TZID=America/Denver:20250502T130000
DTSTAMP:20260423T131239
CREATED:20240827T162126Z
LAST-MODIFIED:20250111T011253Z
UID:6900-1746169200-1746190800@nn4da.org
SUMMARY:FACSA Membership Meeting
DESCRIPTION:TIME ZONE: EST \nContact Marianne Blair @ marianne.blair@flauthorizers.org for more information.
URL:https://nn4da.org/event/facsa-membership-meeting-15/
LOCATION:Fort Myers\, FL
CATEGORIES:Meeting
ATTACH;FMTTYPE=image/png:https://nn4da.org/wp-content/uploads/2021/11/FACSA-Logo.png
END:VEVENT
BEGIN:VEVENT
DTSTART;TZID=America/Denver:20250501T070000
DTEND;TZID=America/Denver:20250501T143000
DTSTAMP:20260423T131239
CREATED:20250123T182251Z
LAST-MODIFIED:20250429T213049Z
UID:7361-1746082800-1746109800@nn4da.org
SUMMARY:Artificial Intelligence and Charter School Authorizing Symposium
DESCRIPTION:The NN4DA is launching an initiative to facilitate district authorizers’ consideration and exploration of Artificial Intelligence’s (AI’s) implications and applications for authorizer work. \nThis free symposium is for authorizers from Florida and nationally\, as well as friends interested in supporting authorizers working with AI. The event is designed for authorizers with all levels of AI experience — from none to some\, and experts as well. \nDate: Thursday\, May 1\, 2025\nTime: 9:00 am – 4:30 pm EST\nLocation: The School District of Lee County\nAddress: 2855 Colonial Blvd.\, Fort Myers\, FL 33966 \nNN4DA AI Symposium Flyer with Links 4.23.25\n  \nNN4DA AI agenda with links 4.23.25\n  \n  \nIf you are interested in joining\, please contact Alex Medler at Alex.Medler@NN4DA.org. \n 
URL:https://nn4da.org/event/ai-in-authorizing-symposium/
LOCATION:Fort Myers\, FL
CATEGORIES:Meeting
ATTACH;FMTTYPE=image/jpeg:https://nn4da.org/wp-content/uploads/2025/01/Triple-Logo-AISymposium.jpg
END:VEVENT
BEGIN:VEVENT
DTSTART;TZID=America/Denver:20250416T120000
DTEND;TZID=America/Denver:20250416T130000
DTSTAMP:20260423T131239
CREATED:20241218T141053Z
LAST-MODIFIED:20241218T141053Z
UID:7251-1744804800-1744808400@nn4da.org
SUMMARY:CACSA Authorizer Connection Call
DESCRIPTION:CACSA will host monthly virtual networking calls exclusively for Colorado charter school authorizers. These calls will provide a consistent space for authorizers across the state to connect\, troubleshoot\, brainstorm\, share insights\, and discuss current happenings in their areas. Whether you’re looking to network or navigate the complexities of authorizing in Colorado\, this is your opportunity to engage with peers and build valuable connections.
URL:https://nn4da.org/event/cacsa-authorizer-connection-call-3/
LOCATION:Zoom
CATEGORIES:Meeting
ATTACH;FMTTYPE=image/png:https://nn4da.org/wp-content/uploads/2023/12/CACSA-Logo.png
END:VEVENT
BEGIN:VEVENT
DTSTART;TZID=America/Denver:20250414T140000
DTEND;TZID=America/Denver:20250414T140000
DTSTAMP:20260423T131239
CREATED:20250224T184320Z
LAST-MODIFIED:20250224T190601Z
UID:7586-1744639200-1744639200@nn4da.org
SUMMARY:Artificial Intelligence (AI) and Authorizing
DESCRIPTION:This group discusses the implications and applications of AI for charter school authorizing.
URL:https://nn4da.org/event/artificial-intelligence-ai-and-authorizing-2/
LOCATION:Zoom
CATEGORIES:Meeting
ATTACH;FMTTYPE=image/jpeg:https://nn4da.org/wp-content/uploads/2023/08/NN4DA-Logo.jpg
END:VEVENT
BEGIN:VEVENT
DTSTART;TZID=America/Denver:20250411T130000
DTEND;TZID=America/Denver:20250411T140000
DTSTAMP:20260423T131239
CREATED:20240827T161944Z
LAST-MODIFIED:20240827T191634Z
UID:6868-1744376400-1744380000@nn4da.org
SUMMARY:Special Education Stakeholders Group
DESCRIPTION:TIME ZONE: MDT
URL:https://nn4da.org/event/special-education-stakeholders-group-10/
CATEGORIES:Meeting
ATTACH;FMTTYPE=image/png:https://nn4da.org/wp-content/uploads/2023/12/CACSA-Logo.png
END:VEVENT
BEGIN:VEVENT
DTSTART;TZID=America/Denver:20250404T070000
DTEND;TZID=America/Denver:20250404T090000
DTSTAMP:20260423T131239
CREATED:20240827T162125Z
LAST-MODIFIED:20240827T190509Z
UID:6899-1743750000-1743757200@nn4da.org
SUMMARY:FACSA Membership Meeting
DESCRIPTION:TIME ZONE: EST
URL:https://nn4da.org/event/facsa-membership-meeting-14/
CATEGORIES:Meeting
ATTACH;FMTTYPE=image/png:https://nn4da.org/wp-content/uploads/2021/11/FACSA-Logo.png
END:VEVENT
BEGIN:VEVENT
DTSTART;TZID=America/Denver:20250403T120000
DTEND;TZID=America/Denver:20250403T120000
DTSTAMP:20260423T131239
CREATED:20250224T184331Z
LAST-MODIFIED:20250224T190744Z
UID:7592-1743681600-1743681600@nn4da.org
SUMMARY:Authorizer Evaluation
DESCRIPTION:This group discusses authorizer evaluation and how our state initiatives can use evaluation to support and engage authorizers.
URL:https://nn4da.org/event/authorizer-evaluation-2/
LOCATION:Zoom
CATEGORIES:Meeting
ATTACH;FMTTYPE=image/jpeg:https://nn4da.org/wp-content/uploads/2023/08/NN4DA-Logo.jpg
END:VEVENT
BEGIN:VEVENT
DTSTART;TZID=America/Denver:20250319T120000
DTEND;TZID=America/Denver:20250319T130000
DTSTAMP:20260423T131239
CREATED:20241218T140931Z
LAST-MODIFIED:20241218T140931Z
UID:7249-1742385600-1742389200@nn4da.org
SUMMARY:CACSA Authorizer Connection Call
DESCRIPTION:CACSA will host monthly virtual networking calls exclusively for Colorado charter school authorizers. These calls will provide a consistent space for authorizers across the state to connect\, troubleshoot\, brainstorm\, share insights\, and discuss current happenings in their areas. Whether you’re looking to network or navigate the complexities of authorizing in Colorado\, this is your opportunity to engage with peers and build valuable connections.
URL:https://nn4da.org/event/cacsa-authorizer-connection-call-2/
LOCATION:Zoom
CATEGORIES:Meeting
ATTACH;FMTTYPE=image/png:https://nn4da.org/wp-content/uploads/2023/12/CACSA-Logo.png
END:VEVENT
BEGIN:VEVENT
DTSTART;TZID=America/Denver:20250314T130000
DTEND;TZID=America/Denver:20250314T140000
DTSTAMP:20260423T131239
CREATED:20240827T161943Z
LAST-MODIFIED:20240827T180815Z
UID:6867-1741957200-1741960800@nn4da.org
SUMMARY:Special Education Stakeholders Group
DESCRIPTION:TIME ZONE: MDT
URL:https://nn4da.org/event/special-education-stakeholders-group-9/
CATEGORIES:Meeting
ATTACH;FMTTYPE=image/jpeg:https://nn4da.org/wp-content/uploads/2023/08/cropped-NN4DA-Logo.jpg
END:VEVENT
BEGIN:VEVENT
DTSTART;TZID=America/Denver:20250310T140000
DTEND;TZID=America/Denver:20250310T140000
DTSTAMP:20260423T131239
CREATED:20250224T184320Z
LAST-MODIFIED:20250224T190823Z
UID:7585-1741615200-1741615200@nn4da.org
SUMMARY:Artificial Intelligence (AI) and Authorizing
DESCRIPTION:This group discusses the implications and applications of AI for charter school authorizing.
URL:https://nn4da.org/event/artificial-intelligence-ai-and-authorizing/
LOCATION:Zoom
CATEGORIES:Meeting
ATTACH;FMTTYPE=image/jpeg:https://nn4da.org/wp-content/uploads/2023/08/NN4DA-Logo.jpg
END:VEVENT
BEGIN:VEVENT
DTSTART;TZID=America/Denver:20250306T120000
DTEND;TZID=America/Denver:20250306T120000
DTSTAMP:20260423T131239
CREATED:20250224T184330Z
LAST-MODIFIED:20250224T190908Z
UID:7591-1741262400-1741262400@nn4da.org
SUMMARY:Authorizer Evaluation
DESCRIPTION:This group discusses authorizer evaluation and how our state initiatives can use evaluation to support and engage authorizers.
URL:https://nn4da.org/event/authorizer-evaluation/
LOCATION:Zoom
CATEGORIES:Meeting
ATTACH;FMTTYPE=image/jpeg:https://nn4da.org/wp-content/uploads/2023/08/NN4DA-Logo.jpg
END:VEVENT
BEGIN:VEVENT
DTSTART;VALUE=DATE:20250227
DTEND;VALUE=DATE:20250228
DTSTAMP:20260423T131239
CREATED:20250111T003414Z
LAST-MODIFIED:20250111T003414Z
UID:7267-1740614400-1740700799@nn4da.org
SUMMARY:CACSA Membership Meeting
DESCRIPTION:The CACSA membership meeting will be held during the Colorado League of Charter Schools Conference. Contact Mackenzie Khan at mackenzie.khan@coauthorizers.org for more information.
URL:https://nn4da.org/event/cacsa-membership-meeting/
LOCATION:Mariott Denver Tech Center\, 4900 South Syracuse St.\, Denver\, CO\, 80237\, United States
CATEGORIES:Meeting
ATTACH;FMTTYPE=image/png:https://nn4da.org/wp-content/uploads/2023/12/CACSA-Logo.png
END:VEVENT
BEGIN:VEVENT
DTSTART;TZID=America/Denver:20250221T070000
DTEND;TZID=America/Denver:20250221T130000
DTSTAMP:20260423T131239
CREATED:20240827T162112Z
LAST-MODIFIED:20250111T011207Z
UID:6898-1740121200-1740142800@nn4da.org
SUMMARY:FACSA Membership Meeting
DESCRIPTION:TIME ZONE: EST \nContact Marianne Blair @ marianne.blair@flauthorizers.org for more information.
URL:https://nn4da.org/event/facsa-membership-meeting-13/
LOCATION:Orlando\, FL
CATEGORIES:Meeting
ATTACH;FMTTYPE=image/png:https://nn4da.org/wp-content/uploads/2021/11/FACSA-Logo.png
END:VEVENT
BEGIN:VEVENT
DTSTART;TZID=America/Denver:20250219T120000
DTEND;TZID=America/Denver:20250219T130000
DTSTAMP:20260423T131239
CREATED:20241218T140808Z
LAST-MODIFIED:20241218T140808Z
UID:7247-1739966400-1739970000@nn4da.org
SUMMARY:CACSA Authorizer Connection Call
DESCRIPTION:CACSA will host monthly virtual networking calls exclusively for Colorado charter school authorizers. These calls will provide a consistent space for authorizers across the state to connect\, troubleshoot\, brainstorm\, share insights\, and discuss current happenings in their areas. Whether you’re looking to network or navigate the complexities of authorizing in Colorado\, this is your opportunity to engage with peers and build valuable connections.
URL:https://nn4da.org/event/cacsa-authorizer-connection-call/
LOCATION:Zoom
CATEGORIES:Meeting
ATTACH;FMTTYPE=image/png:https://nn4da.org/wp-content/uploads/2023/12/CACSA-Logo.png
END:VEVENT
BEGIN:VEVENT
DTSTART;TZID=America/Denver:20250214T130000
DTEND;TZID=America/Denver:20250214T140000
DTSTAMP:20260423T131239
CREATED:20240827T161942Z
LAST-MODIFIED:20240827T191536Z
UID:6866-1739538000-1739541600@nn4da.org
SUMMARY:Special Education Stakeholders Group
DESCRIPTION:TIME ZONE: MDT
URL:https://nn4da.org/event/special-education-stakeholders-group-8/
CATEGORIES:Meeting
ATTACH;FMTTYPE=image/png:https://nn4da.org/wp-content/uploads/2023/12/CACSA-Logo.png
END:VEVENT
BEGIN:VEVENT
DTSTART;TZID=America/Denver:20250207T103000
DTEND;TZID=America/Denver:20250207T113000
DTSTAMP:20260423T131239
CREATED:20240827T162041Z
LAST-MODIFIED:20240827T180444Z
UID:6886-1738924200-1738927800@nn4da.org
SUMMARY:Financial Oversight Working Group
DESCRIPTION:TIME ZONE: MDT
URL:https://nn4da.org/event/financial-oversight-working-group-7/
CATEGORIES:Meeting
ATTACH;FMTTYPE=image/png:https://nn4da.org/wp-content/uploads/2023/12/CACSA-Logo.png
END:VEVENT
BEGIN:VEVENT
DTSTART;TZID=America/Denver:20250124T070000
DTEND;TZID=America/Denver:20250124T090000
DTSTAMP:20260423T131239
CREATED:20240827T162112Z
LAST-MODIFIED:20240827T185622Z
UID:6897-1737702000-1737709200@nn4da.org
SUMMARY:FACSA Membership Meeting
DESCRIPTION:TIME ZONE: EST
URL:https://nn4da.org/event/facsa-membership-meeting-12/
CATEGORIES:Meeting
ATTACH;FMTTYPE=image/png:https://nn4da.org/wp-content/uploads/2021/11/FACSA-Logo.png
END:VEVENT
END:VCALENDAR